View In:
ArcGIS JavaScript
ArcGIS Online Map Viewer
ArcGIS Earth
ArcMap
View Footprint In:
ArcGIS Online Map Viewer
Service Description: This map crosswalks the 2022 Landfire Existing Vegetation Map to the United States National Vegetation Classification at the Macrogroup level. The New Mexico Riparian Habitat Map (NMRipMap) was crosswalked to the USNVC Macrogroups was used to classify habitat along the river corridors.
Name: ERT/Landfire2022_Reclassified_To_NVC_Macrogroup_2025_SWAP_20241112
Description: This map crosswalks the 2022 Landfire Existing Vegetation Map to the United States National Vegetation Classification at the Macrogroup level. The New Mexico Riparian Habitat Map (NMRipMap) was crosswalked to the USNVC Macrogroups was used to classify habitat along the river corridors.
Single Fused Map Cache: false
Extent:
XMin: -1233530.9611520409
YMin: 991817.9833131433
XMax: -616790.9611520409
YMax: 1629467.9833131433
Spatial Reference: 5070
(5070)
Initial Extent:
XMin: -1233530.9611520409
YMin: 991817.9833131433
XMax: -616790.9611520409
YMax: 1629467.9833131433
Spatial Reference: 5070
(5070)
Full Extent:
XMin: -1233530.9611520409
YMin: 991817.9833131433
XMax: -616790.9611520409
YMax: 1629467.9833131433
Spatial Reference: 5070
(5070)
Pixel Size X: 30.0
Pixel Size Y: 30.0
Band Count: 1
Pixel Type: U16
RasterFunction Infos: {"rasterFunctionInfos": [{
"name": "None",
"description": "",
"help": ""
}]}
Mensuration Capabilities: Basic
Has Histograms: true
Has Colormap: false
Has Multi Dimensions : false
Rendering Rule:
Min Scale: 0
Max Scale: 0
Copyright Text: LANDFIRE, 2022, Conterminous U.S. LANDFIRE - LF 2022 (LF_230) Existing Vegetation Type Layer, U.S. Department of the Interior, Geological Survey, and U.S. Department of Agriculture. Accessed 24 October 2024 at http://www.landfire/viewer. National Vegetation Classification
Muldavin, E., E. Milford, J. Triepke, C. Gonzalez, A. Urbanovsky, G. McCartha, A. Kennedy, Y. Chauvin, J. Smith, J. Leonard, L. Elliot, P. Hanberry, D. Diamond, and A.E. Clark. 2023. New Mexico Riparian Habitat Map (NMRipMap): Version 2.0 Plus. New Mexico Natural Heritage, Museum of Southwestern Biology, University of New Mexico; USDA Forest Service, Southwest Region; Missouri Resource Assessment Partnership (MoRAP), University of Missouri, and USDA Forest Service, Geospatial Technology and Applications Center (GTAC), Salt Lake City, UT. Accessible at nhnm.unm.edu/riparian/nmripmap.
Service Data Type: esriImageServiceDataTypeGeneric
Min Values: 0
Max Values: 1104
Mean Values: 72.17036873116061
Standard Deviation Values: 236.63563322432637
Object ID Field:
Fields:
None
Default Mosaic Method: Center
Allowed Mosaic Methods:
SortField:
SortValue: null
Mosaic Operator: First
Default Compression Quality: 75
Default Resampling Method: Bilinear
Max Record Count: null
Max Image Height: 4100
Max Image Width: 15000
Max Download Image Count: null
Max Mosaic Image Count: null
Allow Raster Function: true
Allow Copy: true
Allow Analysis: true
Allow Compute TiePoints: false
Supports Statistics: false
Supports Advanced Queries: false
Use StandardizedQueries: true
Raster Type Infos:
Name: Raster Dataset
Description: Supports all ArcGIS Raster Datasets
Help:
Has Raster Attribute Table: true
Edit Fields Info: null
Ownership Based AccessControl For Rasters: null
Child Resources:
Info
Raster Attribute Table
Histograms
Statistics
Key Properties
Legend
Raster Function Infos
Supported Operations:
Export Image
Identify
Measure
Compute Histograms
Compute Statistics Histograms
Get Samples
Compute Class Statistics
Query Boundary
Compute Pixel Location
Validate
Project